BEGIN:VCALENDAR
VERSION:2.0
PRODID:-// - ECPv6.15.20//NONSGML v1.0//EN
CALSCALE:GREGORIAN
METHOD:PUBLISH
X-ORIGINAL-URL:https://thegoatbarsc.com
X-WR-CALDESC:Events for 
REFRESH-INTERVAL;VALUE=DURATION:PT1H
X-Robots-Tag:noindex
X-PUBLISHED-TTL:PT1H
BEGIN:VTIMEZONE
TZID:America/New_York
BEGIN:DAYLIGHT
TZOFFSETFROM:-0500
TZOFFSETTO:-0400
TZNAME:EDT
DTSTART:20260308T070000
END:DAYLIGHT
BEGIN:STANDARD
TZOFFSETFROM:-0400
TZOFFSETTO:-0500
TZNAME:EST
DTSTART:20261101T060000
END:STANDARD
BEGIN:DAYLIGHT
TZOFFSETFROM:-0500
TZOFFSETTO:-0400
TZNAME:EDT
DTSTART:20270314T070000
END:DAYLIGHT
BEGIN:STANDARD
TZOFFSETFROM:-0400
TZOFFSETTO:-0500
TZNAME:EST
DTSTART:20271107T060000
END:STANDARD
BEGIN:DAYLIGHT
TZOFFSETFROM:-0500
TZOFFSETTO:-0400
TZNAME:EDT
DTSTART:20280312T070000
END:DAYLIGHT
BEGIN:STANDARD
TZOFFSETFROM:-0400
TZOFFSETTO:-0500
TZNAME:EST
DTSTART:20281105T060000
END:STANDARD
END:VTIMEZONE
BEGIN:VEVENT
DTSTART;TZID=America/New_York:20270104T190000
DTEND;TZID=America/New_York:20270104T220000
DTSTAMP:20260421T145332
CREATED:20240910T153417Z
LAST-MODIFIED:20240910T160807Z
UID:10000399-1799089200-1799100000@thegoatbarsc.com
SUMMARY:Team Trivia @ CF
DESCRIPTION:
URL:https://thegoatbarsc.com/event/team-trivia-2/2027-01-04/
LOCATION:The Goat – Carolina Forest\, 2120 Oakheart Rd.\, Myrtle Beach\, SC\, 29579\, United States
CATEGORIES:Trivia
END:VEVENT
BEGIN:VEVENT
DTSTART;TZID=America/New_York:20270107T190000
DTEND;TZID=America/New_York:20270107T210000
DTSTAMP:20260421T145332
CREATED:20241017T121035Z
LAST-MODIFIED:20241017T121035Z
UID:10000663-1799348400-1799355600@thegoatbarsc.com
SUMMARY:Survey Trivia @ CF
DESCRIPTION:
URL:https://thegoatbarsc.com/event/survey-trivia-cf/2027-01-07/
LOCATION:The Goat – Carolina Forest\, 2120 Oakheart Rd.\, Myrtle Beach\, SC\, 29579\, United States
CATEGORIES:Trivia
END:VEVENT
BEGIN:VEVENT
DTSTART;TZID=America/New_York:20270107T190000
DTEND;TZID=America/New_York:20270107T220000
DTSTAMP:20260421T145332
CREATED:20240910T152552Z
LAST-MODIFIED:20240910T160712Z
UID:10000123-1799348400-1799359200@thegoatbarsc.com
SUMMARY:Team Trivia @ MI
DESCRIPTION:
URL:https://thegoatbarsc.com/event/team-trivia/2027-01-07/
LOCATION:The Goat – Murrells Inlet\, 11824 Frontage Rd A\, Murrells Inlet\, SC\, 29576\, United States
CATEGORIES:Trivia
END:VEVENT
BEGIN:VEVENT
DTSTART;TZID=America/New_York:20270111T190000
DTEND;TZID=America/New_York:20270111T220000
DTSTAMP:20260421T145332
CREATED:20240910T153417Z
LAST-MODIFIED:20240910T160807Z
UID:10000400-1799694000-1799704800@thegoatbarsc.com
SUMMARY:Team Trivia @ CF
DESCRIPTION:
URL:https://thegoatbarsc.com/event/team-trivia-2/2027-01-11/
LOCATION:The Goat – Carolina Forest\, 2120 Oakheart Rd.\, Myrtle Beach\, SC\, 29579\, United States
CATEGORIES:Trivia
END:VEVENT
BEGIN:VEVENT
DTSTART;TZID=America/New_York:20270114T190000
DTEND;TZID=America/New_York:20270114T210000
DTSTAMP:20260421T145332
CREATED:20241017T121035Z
LAST-MODIFIED:20241017T121035Z
UID:10000664-1799953200-1799960400@thegoatbarsc.com
SUMMARY:Survey Trivia @ CF
DESCRIPTION:
URL:https://thegoatbarsc.com/event/survey-trivia-cf/2027-01-14/
LOCATION:The Goat – Carolina Forest\, 2120 Oakheart Rd.\, Myrtle Beach\, SC\, 29579\, United States
CATEGORIES:Trivia
END:VEVENT
BEGIN:VEVENT
DTSTART;TZID=America/New_York:20270114T190000
DTEND;TZID=America/New_York:20270114T220000
DTSTAMP:20260421T145332
CREATED:20240910T152552Z
LAST-MODIFIED:20240910T160712Z
UID:10000124-1799953200-1799964000@thegoatbarsc.com
SUMMARY:Team Trivia @ MI
DESCRIPTION:
URL:https://thegoatbarsc.com/event/team-trivia/2027-01-14/
LOCATION:The Goat – Murrells Inlet\, 11824 Frontage Rd A\, Murrells Inlet\, SC\, 29576\, United States
CATEGORIES:Trivia
END:VEVENT
BEGIN:VEVENT
DTSTART;TZID=America/New_York:20270118T190000
DTEND;TZID=America/New_York:20270118T220000
DTSTAMP:20260421T145332
CREATED:20240910T153417Z
LAST-MODIFIED:20240910T160807Z
UID:10000401-1800298800-1800309600@thegoatbarsc.com
SUMMARY:Team Trivia @ CF
DESCRIPTION:
URL:https://thegoatbarsc.com/event/team-trivia-2/2027-01-18/
LOCATION:The Goat – Carolina Forest\, 2120 Oakheart Rd.\, Myrtle Beach\, SC\, 29579\, United States
CATEGORIES:Trivia
END:VEVENT
BEGIN:VEVENT
DTSTART;TZID=America/New_York:20270121T190000
DTEND;TZID=America/New_York:20270121T210000
DTSTAMP:20260421T145332
CREATED:20241017T121035Z
LAST-MODIFIED:20241017T121035Z
UID:10000665-1800558000-1800565200@thegoatbarsc.com
SUMMARY:Survey Trivia @ CF
DESCRIPTION:
URL:https://thegoatbarsc.com/event/survey-trivia-cf/2027-01-21/
LOCATION:The Goat – Carolina Forest\, 2120 Oakheart Rd.\, Myrtle Beach\, SC\, 29579\, United States
CATEGORIES:Trivia
END:VEVENT
BEGIN:VEVENT
DTSTART;TZID=America/New_York:20270121T190000
DTEND;TZID=America/New_York:20270121T220000
DTSTAMP:20260421T145332
CREATED:20240910T152552Z
LAST-MODIFIED:20240910T160712Z
UID:10000125-1800558000-1800568800@thegoatbarsc.com
SUMMARY:Team Trivia @ MI
DESCRIPTION:
URL:https://thegoatbarsc.com/event/team-trivia/2027-01-21/
LOCATION:The Goat – Murrells Inlet\, 11824 Frontage Rd A\, Murrells Inlet\, SC\, 29576\, United States
CATEGORIES:Trivia
END:VEVENT
BEGIN:VEVENT
DTSTART;TZID=America/New_York:20270125T190000
DTEND;TZID=America/New_York:20270125T220000
DTSTAMP:20260421T145332
CREATED:20240910T153417Z
LAST-MODIFIED:20240910T160807Z
UID:10000402-1800903600-1800914400@thegoatbarsc.com
SUMMARY:Team Trivia @ CF
DESCRIPTION:
URL:https://thegoatbarsc.com/event/team-trivia-2/2027-01-25/
LOCATION:The Goat – Carolina Forest\, 2120 Oakheart Rd.\, Myrtle Beach\, SC\, 29579\, United States
CATEGORIES:Trivia
END:VEVENT
BEGIN:VEVENT
DTSTART;TZID=America/New_York:20270128T190000
DTEND;TZID=America/New_York:20270128T210000
DTSTAMP:20260421T145332
CREATED:20241017T121035Z
LAST-MODIFIED:20241017T121035Z
UID:10000666-1801162800-1801170000@thegoatbarsc.com
SUMMARY:Survey Trivia @ CF
DESCRIPTION:
URL:https://thegoatbarsc.com/event/survey-trivia-cf/2027-01-28/
LOCATION:The Goat – Carolina Forest\, 2120 Oakheart Rd.\, Myrtle Beach\, SC\, 29579\, United States
CATEGORIES:Trivia
END:VEVENT
BEGIN:VEVENT
DTSTART;TZID=America/New_York:20270128T190000
DTEND;TZID=America/New_York:20270128T220000
DTSTAMP:20260421T145332
CREATED:20240910T152552Z
LAST-MODIFIED:20240910T160712Z
UID:10000126-1801162800-1801173600@thegoatbarsc.com
SUMMARY:Team Trivia @ MI
DESCRIPTION:
URL:https://thegoatbarsc.com/event/team-trivia/2027-01-28/
LOCATION:The Goat – Murrells Inlet\, 11824 Frontage Rd A\, Murrells Inlet\, SC\, 29576\, United States
CATEGORIES:Trivia
END:VEVENT
END:VCALENDAR