BEGIN:VCALENDAR
VERSION:2.0
PRODID:-// - ECPv6.15.20//NONSGML v1.0//EN
CALSCALE:GREGORIAN
METHOD:PUBLISH
X-ORIGINAL-URL:https://thegoatbarsc.com
X-WR-CALDESC:Events for 
REFRESH-INTERVAL;VALUE=DURATION:PT1H
X-Robots-Tag:noindex
X-PUBLISHED-TTL:PT1H
BEGIN:VTIMEZONE
TZID:America/New_York
BEGIN:DAYLIGHT
TZOFFSETFROM:-0500
TZOFFSETTO:-0400
TZNAME:EDT
DTSTART:20250309T070000
END:DAYLIGHT
BEGIN:STANDARD
TZOFFSETFROM:-0400
TZOFFSETTO:-0500
TZNAME:EST
DTSTART:20251102T060000
END:STANDARD
BEGIN:DAYLIGHT
TZOFFSETFROM:-0500
TZOFFSETTO:-0400
TZNAME:EDT
DTSTART:20260308T070000
END:DAYLIGHT
BEGIN:STANDARD
TZOFFSETFROM:-0400
TZOFFSETTO:-0500
TZNAME:EST
DTSTART:20261101T060000
END:STANDARD
BEGIN:DAYLIGHT
TZOFFSETFROM:-0500
TZOFFSETTO:-0400
TZNAME:EDT
DTSTART:20270314T070000
END:DAYLIGHT
BEGIN:STANDARD
TZOFFSETFROM:-0400
TZOFFSETTO:-0500
TZNAME:EST
DTSTART:20271107T060000
END:STANDARD
END:VTIMEZONE
BEGIN:VEVENT
DTSTART;TZID=America/New_York:20260101T190000
DTEND;TZID=America/New_York:20260101T210000
DTSTAMP:20260421T054613
CREATED:20241017T121035Z
LAST-MODIFIED:20241017T121035Z
UID:10000610-1767294000-1767301200@thegoatbarsc.com
SUMMARY:Survey Trivia @ CF
DESCRIPTION:
URL:https://thegoatbarsc.com/event/survey-trivia-cf/2026-01-01/
LOCATION:The Goat – Carolina Forest\, 2120 Oakheart Rd.\, Myrtle Beach\, SC\, 29579\, United States
CATEGORIES:Trivia
END:VEVENT
BEGIN:VEVENT
DTSTART;TZID=America/New_York:20260101T190000
DTEND;TZID=America/New_York:20260101T220000
DTSTAMP:20260421T054613
CREATED:20240910T152552Z
LAST-MODIFIED:20240910T160712Z
UID:10000070-1767294000-1767304800@thegoatbarsc.com
SUMMARY:Team Trivia @ MI
DESCRIPTION:
URL:https://thegoatbarsc.com/event/team-trivia/2026-01-01/
LOCATION:The Goat – Murrells Inlet\, 11824 Frontage Rd A\, Murrells Inlet\, SC\, 29576\, United States
CATEGORIES:Trivia
END:VEVENT
BEGIN:VEVENT
DTSTART;TZID=America/New_York:20260105T190000
DTEND;TZID=America/New_York:20260105T220000
DTSTAMP:20260421T054613
CREATED:20240910T153417Z
LAST-MODIFIED:20240910T160807Z
UID:10000347-1767639600-1767650400@thegoatbarsc.com
SUMMARY:Team Trivia @ CF
DESCRIPTION:
URL:https://thegoatbarsc.com/event/team-trivia-2/2026-01-05/
LOCATION:The Goat – Carolina Forest\, 2120 Oakheart Rd.\, Myrtle Beach\, SC\, 29579\, United States
CATEGORIES:Trivia
END:VEVENT
BEGIN:VEVENT
DTSTART;TZID=America/New_York:20260108T190000
DTEND;TZID=America/New_York:20260108T210000
DTSTAMP:20260421T054613
CREATED:20241017T121035Z
LAST-MODIFIED:20241017T121035Z
UID:10000611-1767898800-1767906000@thegoatbarsc.com
SUMMARY:Survey Trivia @ CF
DESCRIPTION:
URL:https://thegoatbarsc.com/event/survey-trivia-cf/2026-01-08/
LOCATION:The Goat – Carolina Forest\, 2120 Oakheart Rd.\, Myrtle Beach\, SC\, 29579\, United States
CATEGORIES:Trivia
END:VEVENT
BEGIN:VEVENT
DTSTART;TZID=America/New_York:20260108T190000
DTEND;TZID=America/New_York:20260108T220000
DTSTAMP:20260421T054613
CREATED:20240910T152552Z
LAST-MODIFIED:20240910T160712Z
UID:10000071-1767898800-1767909600@thegoatbarsc.com
SUMMARY:Team Trivia @ MI
DESCRIPTION:
URL:https://thegoatbarsc.com/event/team-trivia/2026-01-08/
LOCATION:The Goat – Murrells Inlet\, 11824 Frontage Rd A\, Murrells Inlet\, SC\, 29576\, United States
CATEGORIES:Trivia
END:VEVENT
BEGIN:VEVENT
DTSTART;TZID=America/New_York:20260112T190000
DTEND;TZID=America/New_York:20260112T220000
DTSTAMP:20260421T054613
CREATED:20240910T153417Z
LAST-MODIFIED:20240910T160807Z
UID:10000348-1768244400-1768255200@thegoatbarsc.com
SUMMARY:Team Trivia @ CF
DESCRIPTION:
URL:https://thegoatbarsc.com/event/team-trivia-2/2026-01-12/
LOCATION:The Goat – Carolina Forest\, 2120 Oakheart Rd.\, Myrtle Beach\, SC\, 29579\, United States
CATEGORIES:Trivia
END:VEVENT
BEGIN:VEVENT
DTSTART;TZID=America/New_York:20260115T190000
DTEND;TZID=America/New_York:20260115T210000
DTSTAMP:20260421T054613
CREATED:20241017T121035Z
LAST-MODIFIED:20241017T121035Z
UID:10000612-1768503600-1768510800@thegoatbarsc.com
SUMMARY:Survey Trivia @ CF
DESCRIPTION:
URL:https://thegoatbarsc.com/event/survey-trivia-cf/2026-01-15/
LOCATION:The Goat – Carolina Forest\, 2120 Oakheart Rd.\, Myrtle Beach\, SC\, 29579\, United States
CATEGORIES:Trivia
END:VEVENT
BEGIN:VEVENT
DTSTART;TZID=America/New_York:20260115T190000
DTEND;TZID=America/New_York:20260115T220000
DTSTAMP:20260421T054613
CREATED:20240910T152552Z
LAST-MODIFIED:20240910T160712Z
UID:10000072-1768503600-1768514400@thegoatbarsc.com
SUMMARY:Team Trivia @ MI
DESCRIPTION:
URL:https://thegoatbarsc.com/event/team-trivia/2026-01-15/
LOCATION:The Goat – Murrells Inlet\, 11824 Frontage Rd A\, Murrells Inlet\, SC\, 29576\, United States
CATEGORIES:Trivia
END:VEVENT
BEGIN:VEVENT
DTSTART;TZID=America/New_York:20260119T190000
DTEND;TZID=America/New_York:20260119T220000
DTSTAMP:20260421T054613
CREATED:20240910T153417Z
LAST-MODIFIED:20240910T160807Z
UID:10000349-1768849200-1768860000@thegoatbarsc.com
SUMMARY:Team Trivia @ CF
DESCRIPTION:
URL:https://thegoatbarsc.com/event/team-trivia-2/2026-01-19/
LOCATION:The Goat – Carolina Forest\, 2120 Oakheart Rd.\, Myrtle Beach\, SC\, 29579\, United States
CATEGORIES:Trivia
END:VEVENT
BEGIN:VEVENT
DTSTART;TZID=America/New_York:20260122T190000
DTEND;TZID=America/New_York:20260122T210000
DTSTAMP:20260421T054613
CREATED:20241017T121035Z
LAST-MODIFIED:20241017T121035Z
UID:10000613-1769108400-1769115600@thegoatbarsc.com
SUMMARY:Survey Trivia @ CF
DESCRIPTION:
URL:https://thegoatbarsc.com/event/survey-trivia-cf/2026-01-22/
LOCATION:The Goat – Carolina Forest\, 2120 Oakheart Rd.\, Myrtle Beach\, SC\, 29579\, United States
CATEGORIES:Trivia
END:VEVENT
BEGIN:VEVENT
DTSTART;TZID=America/New_York:20260122T190000
DTEND;TZID=America/New_York:20260122T220000
DTSTAMP:20260421T054613
CREATED:20240910T152552Z
LAST-MODIFIED:20240910T160712Z
UID:10000073-1769108400-1769119200@thegoatbarsc.com
SUMMARY:Team Trivia @ MI
DESCRIPTION:
URL:https://thegoatbarsc.com/event/team-trivia/2026-01-22/
LOCATION:The Goat – Murrells Inlet\, 11824 Frontage Rd A\, Murrells Inlet\, SC\, 29576\, United States
CATEGORIES:Trivia
END:VEVENT
BEGIN:VEVENT
DTSTART;TZID=America/New_York:20260126T190000
DTEND;TZID=America/New_York:20260126T220000
DTSTAMP:20260421T054613
CREATED:20240910T153417Z
LAST-MODIFIED:20240910T160807Z
UID:10000350-1769454000-1769464800@thegoatbarsc.com
SUMMARY:Team Trivia @ CF
DESCRIPTION:
URL:https://thegoatbarsc.com/event/team-trivia-2/2026-01-26/
LOCATION:The Goat – Carolina Forest\, 2120 Oakheart Rd.\, Myrtle Beach\, SC\, 29579\, United States
CATEGORIES:Trivia
END:VEVENT
BEGIN:VEVENT
DTSTART;TZID=America/New_York:20260129T190000
DTEND;TZID=America/New_York:20260129T210000
DTSTAMP:20260421T054613
CREATED:20241017T121035Z
LAST-MODIFIED:20241017T121035Z
UID:10000614-1769713200-1769720400@thegoatbarsc.com
SUMMARY:Survey Trivia @ CF
DESCRIPTION:
URL:https://thegoatbarsc.com/event/survey-trivia-cf/2026-01-29/
LOCATION:The Goat – Carolina Forest\, 2120 Oakheart Rd.\, Myrtle Beach\, SC\, 29579\, United States
CATEGORIES:Trivia
END:VEVENT
BEGIN:VEVENT
DTSTART;TZID=America/New_York:20260129T190000
DTEND;TZID=America/New_York:20260129T220000
DTSTAMP:20260421T054613
CREATED:20240910T152552Z
LAST-MODIFIED:20240910T160712Z
UID:10000074-1769713200-1769724000@thegoatbarsc.com
SUMMARY:Team Trivia @ MI
DESCRIPTION:
URL:https://thegoatbarsc.com/event/team-trivia/2026-01-29/
LOCATION:The Goat – Murrells Inlet\, 11824 Frontage Rd A\, Murrells Inlet\, SC\, 29576\, United States
CATEGORIES:Trivia
END:VEVENT
END:VCALENDAR