BEGIN:VCALENDAR
VERSION:2.0
PRODID:-// - ECPv6.15.20//NONSGML v1.0//EN
CALSCALE:GREGORIAN
METHOD:PUBLISH
X-ORIGINAL-URL:https://thegoatbarsc.com
X-WR-CALDESC:Events for 
REFRESH-INTERVAL;VALUE=DURATION:PT1H
X-Robots-Tag:noindex
X-PUBLISHED-TTL:PT1H
BEGIN:VTIMEZONE
TZID:America/New_York
BEGIN:DAYLIGHT
TZOFFSETFROM:-0500
TZOFFSETTO:-0400
TZNAME:EDT
DTSTART:20240310T070000
END:DAYLIGHT
BEGIN:STANDARD
TZOFFSETFROM:-0400
TZOFFSETTO:-0500
TZNAME:EST
DTSTART:20241103T060000
END:STANDARD
BEGIN:DAYLIGHT
TZOFFSETFROM:-0500
TZOFFSETTO:-0400
TZNAME:EDT
DTSTART:20250309T070000
END:DAYLIGHT
BEGIN:STANDARD
TZOFFSETFROM:-0400
TZOFFSETTO:-0500
TZNAME:EST
DTSTART:20251102T060000
END:STANDARD
BEGIN:DAYLIGHT
TZOFFSETFROM:-0500
TZOFFSETTO:-0400
TZNAME:EDT
DTSTART:20260308T070000
END:DAYLIGHT
BEGIN:STANDARD
TZOFFSETFROM:-0400
TZOFFSETTO:-0500
TZNAME:EST
DTSTART:20261101T060000
END:STANDARD
END:VTIMEZONE
BEGIN:VEVENT
DTSTART;TZID=America/New_York:20251103T190000
DTEND;TZID=America/New_York:20251103T220000
DTSTAMP:20260421T080721
CREATED:20240910T153417Z
LAST-MODIFIED:20240910T160807Z
UID:10000338-1762196400-1762207200@thegoatbarsc.com
SUMMARY:Team Trivia @ CF
DESCRIPTION:
URL:https://thegoatbarsc.com/event/team-trivia-2/2025-11-03/
LOCATION:The Goat – Carolina Forest\, 2120 Oakheart Rd.\, Myrtle Beach\, SC\, 29579\, United States
CATEGORIES:Trivia
END:VEVENT
BEGIN:VEVENT
DTSTART;TZID=America/New_York:20251106T190000
DTEND;TZID=America/New_York:20251106T210000
DTSTAMP:20260421T080721
CREATED:20241017T121035Z
LAST-MODIFIED:20241017T121035Z
UID:10000602-1762455600-1762462800@thegoatbarsc.com
SUMMARY:Survey Trivia @ CF
DESCRIPTION:
URL:https://thegoatbarsc.com/event/survey-trivia-cf/2025-11-06/
LOCATION:The Goat – Carolina Forest\, 2120 Oakheart Rd.\, Myrtle Beach\, SC\, 29579\, United States
CATEGORIES:Trivia
END:VEVENT
BEGIN:VEVENT
DTSTART;TZID=America/New_York:20251106T190000
DTEND;TZID=America/New_York:20251106T220000
DTSTAMP:20260421T080721
CREATED:20240910T152552Z
LAST-MODIFIED:20240910T160712Z
UID:10000062-1762455600-1762466400@thegoatbarsc.com
SUMMARY:Team Trivia @ MI
DESCRIPTION:
URL:https://thegoatbarsc.com/event/team-trivia/2025-11-06/
LOCATION:The Goat – Murrells Inlet\, 11824 Frontage Rd A\, Murrells Inlet\, SC\, 29576\, United States
CATEGORIES:Trivia
END:VEVENT
BEGIN:VEVENT
DTSTART;TZID=America/New_York:20251110T190000
DTEND;TZID=America/New_York:20251110T220000
DTSTAMP:20260421T080721
CREATED:20240910T153417Z
LAST-MODIFIED:20240910T160807Z
UID:10000339-1762801200-1762812000@thegoatbarsc.com
SUMMARY:Team Trivia @ CF
DESCRIPTION:
URL:https://thegoatbarsc.com/event/team-trivia-2/2025-11-10/
LOCATION:The Goat – Carolina Forest\, 2120 Oakheart Rd.\, Myrtle Beach\, SC\, 29579\, United States
CATEGORIES:Trivia
END:VEVENT
BEGIN:VEVENT
DTSTART;TZID=America/New_York:20251113T190000
DTEND;TZID=America/New_York:20251113T210000
DTSTAMP:20260421T080721
CREATED:20241017T121035Z
LAST-MODIFIED:20241017T121035Z
UID:10000603-1763060400-1763067600@thegoatbarsc.com
SUMMARY:Survey Trivia @ CF
DESCRIPTION:
URL:https://thegoatbarsc.com/event/survey-trivia-cf/2025-11-13/
LOCATION:The Goat – Carolina Forest\, 2120 Oakheart Rd.\, Myrtle Beach\, SC\, 29579\, United States
CATEGORIES:Trivia
END:VEVENT
BEGIN:VEVENT
DTSTART;TZID=America/New_York:20251113T190000
DTEND;TZID=America/New_York:20251113T220000
DTSTAMP:20260421T080721
CREATED:20240910T152552Z
LAST-MODIFIED:20240910T160712Z
UID:10000063-1763060400-1763071200@thegoatbarsc.com
SUMMARY:Team Trivia @ MI
DESCRIPTION:
URL:https://thegoatbarsc.com/event/team-trivia/2025-11-13/
LOCATION:The Goat – Murrells Inlet\, 11824 Frontage Rd A\, Murrells Inlet\, SC\, 29576\, United States
CATEGORIES:Trivia
END:VEVENT
BEGIN:VEVENT
DTSTART;TZID=America/New_York:20251117T190000
DTEND;TZID=America/New_York:20251117T220000
DTSTAMP:20260421T080721
CREATED:20240910T153417Z
LAST-MODIFIED:20240910T160807Z
UID:10000340-1763406000-1763416800@thegoatbarsc.com
SUMMARY:Team Trivia @ CF
DESCRIPTION:
URL:https://thegoatbarsc.com/event/team-trivia-2/2025-11-17/
LOCATION:The Goat – Carolina Forest\, 2120 Oakheart Rd.\, Myrtle Beach\, SC\, 29579\, United States
CATEGORIES:Trivia
END:VEVENT
BEGIN:VEVENT
DTSTART;TZID=America/New_York:20251120T190000
DTEND;TZID=America/New_York:20251120T210000
DTSTAMP:20260421T080721
CREATED:20241017T121035Z
LAST-MODIFIED:20241017T121035Z
UID:10000604-1763665200-1763672400@thegoatbarsc.com
SUMMARY:Survey Trivia @ CF
DESCRIPTION:
URL:https://thegoatbarsc.com/event/survey-trivia-cf/2025-11-20/
LOCATION:The Goat – Carolina Forest\, 2120 Oakheart Rd.\, Myrtle Beach\, SC\, 29579\, United States
CATEGORIES:Trivia
END:VEVENT
BEGIN:VEVENT
DTSTART;TZID=America/New_York:20251120T190000
DTEND;TZID=America/New_York:20251120T220000
DTSTAMP:20260421T080721
CREATED:20240910T152552Z
LAST-MODIFIED:20240910T160712Z
UID:10000064-1763665200-1763676000@thegoatbarsc.com
SUMMARY:Team Trivia @ MI
DESCRIPTION:
URL:https://thegoatbarsc.com/event/team-trivia/2025-11-20/
LOCATION:The Goat – Murrells Inlet\, 11824 Frontage Rd A\, Murrells Inlet\, SC\, 29576\, United States
CATEGORIES:Trivia
END:VEVENT
BEGIN:VEVENT
DTSTART;TZID=America/New_York:20251124T190000
DTEND;TZID=America/New_York:20251124T220000
DTSTAMP:20260421T080721
CREATED:20240910T153417Z
LAST-MODIFIED:20240910T160807Z
UID:10000341-1764010800-1764021600@thegoatbarsc.com
SUMMARY:Team Trivia @ CF
DESCRIPTION:
URL:https://thegoatbarsc.com/event/team-trivia-2/2025-11-24/
LOCATION:The Goat – Carolina Forest\, 2120 Oakheart Rd.\, Myrtle Beach\, SC\, 29579\, United States
CATEGORIES:Trivia
END:VEVENT
BEGIN:VEVENT
DTSTART;TZID=America/New_York:20251127T190000
DTEND;TZID=America/New_York:20251127T210000
DTSTAMP:20260421T080721
CREATED:20241017T121035Z
LAST-MODIFIED:20241017T121035Z
UID:10000605-1764270000-1764277200@thegoatbarsc.com
SUMMARY:Survey Trivia @ CF
DESCRIPTION:
URL:https://thegoatbarsc.com/event/survey-trivia-cf/2025-11-27/
LOCATION:The Goat – Carolina Forest\, 2120 Oakheart Rd.\, Myrtle Beach\, SC\, 29579\, United States
CATEGORIES:Trivia
END:VEVENT
BEGIN:VEVENT
DTSTART;TZID=America/New_York:20251127T190000
DTEND;TZID=America/New_York:20251127T220000
DTSTAMP:20260421T080721
CREATED:20240910T152552Z
LAST-MODIFIED:20240910T160712Z
UID:10000065-1764270000-1764280800@thegoatbarsc.com
SUMMARY:Team Trivia @ MI
DESCRIPTION:
URL:https://thegoatbarsc.com/event/team-trivia/2025-11-27/
LOCATION:The Goat – Murrells Inlet\, 11824 Frontage Rd A\, Murrells Inlet\, SC\, 29576\, United States
CATEGORIES:Trivia
END:VEVENT
END:VCALENDAR